BEGIN:VCALENDAR
VERSION:2.0
PRODID:icalendar-ruby
CALSCALE:GREGORIAN
METHOD:PUBLISH
BEGIN:VEVENT
DTSTAMP:20260424T084145Z
UID:13-1107432@oxfordvalleychapel.org
DTSTART:20260923T230000Z
DTEND:20260924T000000Z
CLASS:PUBLIC
CREATED:20260423T224747
DESCRIPTION:\n\nYouth group meets on Wednesday nights at 7 pm. Time include
 s games\, a time of sharing\, a small lesson\, and snacks and refreshments
 . Continuing in September\, 2024\, we will study  2:7 Series® disciples
 hip study. The name is significant because it’s named after Colossians 
 2:7\n\n“rooted and built up in him and established in the faith\, just
  as you were taught\, abounding in thanksgiving.”\nColossians 2:7 ESV\
 nPlease join us for a time of fun and fellowship!\n\n
LAST-MODIFIED:20260423T224747
LOCATION:Downstairs Teen Room
SUMMARY:Youth Group
URL;VALUE=URI:https://www.oxfordvalleychapel.org/events/youth-group/2026-09
 -23
ATTACH;FILENAME=Teen-Praying-1280x960.jpg;FMTTYPE=image/jpeg:https://dq5pwp
 g1q8ru0.cloudfront.net/2024/08/15/18/59/31/6e67b14b-7e41-454e-a99f-493d31f
 46c8b/Teen-Praying-1280x960.jpg
END:VEVENT
END:VCALENDAR
