BEGIN:VCALENDAR
VERSION:2.0
PRODID:icalendar-ruby
CALSCALE:GREGORIAN
METHOD:PUBLISH
BEGIN:VEVENT
DTSTAMP:20260424T051322Z
UID:15-1107660@oxfordvalleychapel.org
DTSTART:20260928T153000Z
DTEND:20260928T170000Z
CLASS:PUBLIC
CREATED:20260423T224748
DESCRIPTION:Grief Support Group\nHelp and encouragement after the death of 
 a spouse\, child\, family member\, or friend.\nSupport group meets weekly 
 on Mondays. Two new in-person sessions start Monday\,  September 15th\, 2
 025. Two different times\, one in the morning starting 11:30 am to 1:00 pm
  and one in the evening starting 7:00 pm to 8:30 pm. Sessions will run for
  13 weeks. Feel free to join at any session.
LAST-MODIFIED:20260423T224748
LOCATION:Upstairs Middle Classroom
SUMMARY:GriefShare - Morning
URL;VALUE=URI:https://www.oxfordvalleychapel.org/events/griefshare-morning/
 2026-09-28
ATTACH;FILENAME=GriefShare-3-1500x784.jpg;FMTTYPE=image/jpeg:https://dq5pwp
 g1q8ru0.cloudfront.net/2024/08/20/18/06/41/3a43c623-84b4-41f3-a06a-fec918b
 f3e33/GriefShare-3-1500x784.jpg
ATTACH;FILENAME=GriefShare-1500x784.jpg;FMTTYPE=image/jpeg:https://dq5pwpg1
 q8ru0.cloudfront.net/2024/08/20/18/06/40/1c81f056-ebac-4e69-87b0-44782f1bd
 4b7/GriefShare-1500x784.jpg
ATTACH;FILENAME=GriefShare-2-1500x784.jpg;FMTTYPE=image/jpeg:https://dq5pwp
 g1q8ru0.cloudfront.net/2024/08/20/18/06/40/b6002a15-39fd-4556-9312-8e44f90
 28364/GriefShare-2-1500x784.jpg
ATTACH;FILENAME=GriefShare-4-1500x784.jpg;FMTTYPE=image/jpeg:https://dq5pwp
 g1q8ru0.cloudfront.net/2024/08/20/18/06/41/5e8de76a-79ba-4d1f-a997-bfd1c73
 bb759/GriefShare-4-1500x784.jpg
END:VEVENT
END:VCALENDAR
