BEGIN:VCALENDAR
VERSION:2.0
PRODID:icalendar-ruby
CALSCALE:GREGORIAN
METHOD:PUBLISH
BEGIN:VEVENT
DTSTAMP:20260424T152555Z
UID:12-1109396@oxfordvalleychapel.org
DTSTART:20260930T230000Z
DTEND:20261001T000000Z
CLASS:PUBLIC
CREATED:20260424T110857
DESCRIPTION:Wednesdays\, at 7 PM\, join us for adult bible study. Topics va
 ry.\nStarting Nov 6th\, we will begin a study of War of Words. Join us!\nA
 dult Bible Study | Adults | Oxford Valley Chapel
LAST-MODIFIED:20260424T110857
LOCATION:Upstairs Class Room 3
SUMMARY:Adult Bible Study
URL;VALUE=URI:https://www.oxfordvalleychapel.org/events/adult-bible-study/2
 026-09-30
ATTACH;FILENAME=Wednesday-Night-1280x960.jpg;FMTTYPE=image/jpeg:https://dq5
 pwpg1q8ru0.cloudfront.net/2024/08/15/18/58/58/5afd1cc0-c5cd-4fd8-9b81-c0d2
 a86ab9d3/Wednesday-Night-1280x960.jpg
END:VEVENT
END:VCALENDAR
